BEGIN:VCALENDAR
VERSION:2.0
PRODID:-//Pfälzer Schwertlöwen - ECPv5.3.1//NONSGML v1.0//EN
CALSCALE:GREGORIAN
METHOD:PUBLISH
X-WR-CALNAME:Pfälzer Schwertlöwen
X-ORIGINAL-URL:http://pfaelzer-schwertloewen.de
X-WR-CALDESC:Veranstaltungen für Pfälzer Schwertlöwen
BEGIN:VTIMEZONE
TZID:UTC
BEGIN:STANDARD
TZOFFSETFROM:+0000
TZOFFSETTO:+0000
TZNAME:UTC
DTSTART:20260101T000000
END:STANDARD
END:VTIMEZONE
BEGIN:VEVENT
DTSTART;TZID=UTC:20260301T110000
DTEND;TZID=UTC:20260301T160000
DTSTAMP:20260421T121556
CREATED:20221027T133908Z
LAST-MODIFIED:20260219T144210Z
UID:1382-1772362800-1772380800@pfaelzer-schwertloewen.de
SUMMARY:Offene Halle
DESCRIPTION:Wir laden ein zur Offenen Halle! \nFür Kaffee\, Tee sowie Kaltgetränke ist gesorgt. \nKlassischerweise gibt es während einer Offenen Halle kein festes Programm. Wir starten um 11 Uhr mit einer freiwilligen gemeinsamen Bewegungseinheit. Workshops können spontan entstehen.\nJedes Erfahrungslevel ist willkommen und es kann mit allen Wehren gefochten werden. \nDie Veranstaltung ist kostenlos. Raumspenden willkommen. Bitte nutzt dennoch dieses Anmeldeformular\, damit wir einen Überblick darüber haben\, wie viele Menschen kommen. Außerdem sparen wir uns den Papierkram wie Haftungsausschluss und Datenschutz vor Ort.
URL:http://pfaelzer-schwertloewen.de/veranstaltungen/offene-halle
LOCATION:Pfälzer Schwertlöwen – Historische Kampfkünste e.V.\, Lachener Straße 78\, Neustadt Weinstraße\, Rheinland-Pfalz\, 67434\, Deutschland
ATTACH;FMTTYPE=image/jpeg:http://pfaelzer-schwertloewen.de/wp-content/uploads/2022/07/PXL_20220702_115634037-scaled-e1687520812457.jpg
ORGANIZER;CN="Pf%C3%A4lzer%20Schwertl%C3%B6wen%20-%20Historische%20Kampfk%C3%BCnste%20e.V.":MAILTO:info@pfaelzer-schwertloewen.de
END:VEVENT
BEGIN:VEVENT
DTSTART;TZID=UTC:20260315T090000
DTEND;TZID=UTC:20260315T140000
DTSTAMP:20260421T121556
CREATED:20230214T155942Z
LAST-MODIFIED:20260219T153214Z
UID:1394-1773565200-1773583200@pfaelzer-schwertloewen.de
SUMMARY:Offenes Freifechten und Geburtstagskämpfe
DESCRIPTION:Wir laden ein zum Sonntags Training! \nIm Sinne der Nachbarschaftshilfe ist eingeladen\, wer über Freifechtausrüstung verfügt und bei uns ins Training schnuppern will. Meldet\, solltet Ihr Fragen haben. Auch wenn es im Bild fehlt bedeutet Volle Montour bei uns Fechthose und Protektoren für Knie und Schienbein. \nDie Uhrzeit ist nicht für jeden – seid bitte pünktlich. Es geht um 9 Uhr los. Die Halle ist ab 8:45 offen. \nNach dem Training\, um 12 Uhr\, will Till seine 35 *hust* 36 Geburtstagsgefechte bestreiten. Er wünscht sich Gänge im Dolch\, Langen Messer und Rapier. Gerne auch im Seitschwert\, Langen Schwert\, sowie Schwert und Buckler. \nIm Anschluss gibt’s Pommes und Currywurst. Auch für Kaffee\, Tee sowie Kaltgetränke ist gesorgt. \nDie Veranstaltung ist kostenlos. Raumspenden willkommen. Bitte nutzt dennoch dieses Anmeldeformular\, damit wir einen Überblick darüber haben\, wie viele Menschen kommen. Außerdem sparen wir uns den Papierkram wie Haftungsausschluss und Datenschutz vor Ort.
URL:http://pfaelzer-schwertloewen.de/veranstaltungen/offenes-freifechten
LOCATION:Pfälzer Schwertlöwen – Historische Kampfkünste e.V.\, Lachener Straße 78\, Neustadt Weinstraße\, Rheinland-Pfalz\, 67434\, Deutschland
ATTACH;FMTTYPE=image/jpeg:http://pfaelzer-schwertloewen.de/wp-content/uploads/2023/02/PXL_20220902_180436575.MP_-scaled.jpg
ORGANIZER;CN="Pf%C3%A4lzer%20Schwertl%C3%B6wen%20-%20Historische%20Kampfk%C3%BCnste%20e.V.":MAILTO:info@pfaelzer-schwertloewen.de
END:VEVENT
END:VCALENDAR