BEGIN:VCALENDAR
VERSION:2.0
PRODID:-//Pfälzer Schwertlöwen - ECPv5.3.1//NONSGML v1.0//EN
CALSCALE:GREGORIAN
METHOD:PUBLISH
X-WR-CALNAME:Pfälzer Schwertlöwen
X-ORIGINAL-URL:https://pfaelzer-schwertloewen.de
X-WR-CALDESC:Veranstaltungen für Pfälzer Schwertlöwen
BEGIN:VTIMEZONE
TZID:UTC
BEGIN:STANDARD
TZOFFSETFROM:+0000
TZOFFSETTO:+0000
TZNAME:UTC
DTSTART:20260101T000000
END:STANDARD
END:VTIMEZONE
BEGIN:VEVENT
DTSTART;TZID=UTC:20260429T180000
DTEND;TZID=UTC:20260503T143000
DTSTAMP:20260419T134726
CREATED:20230222T073244Z
LAST-MODIFIED:20260311T102229Z
UID:1400-1777485600-1777818600@pfaelzer-schwertloewen.de
SUMMARY:Schwertlöwen Trainingslager
DESCRIPTION:Unser Trainingslager geht in die 4. Runde. Bist Du dabei?\n• Mittwoch 18:00 Uhr bis Sonntag 14:30 Uhr\n• Kosten: 149€ Beitrag + 60€ Verpflegungsgeld\, Frühbucher sparen bis 18. März 10€\n• Mahlzeiten inklusive\n• Kostenfreie Übernachtungsmöglichkeiten gibt es in der Halle (Isomatte und Schlafsack mitbringen) oder im eigenen KfZ auf dem Parkplatz direkt an der Halle. Wer in Neustadt und Umgebung wohnt\, kann natürlich zuhause schlafen.\n• Das Event richtet sich an Menschen\, die bereits aktiv in einer Gruppe fechten oder gefochten haben. \nViereinhalb Tage Schwerter\, Schweiß und Lernen in guter Gesellschaft mit bestem Essen? Was brauchst Du mehr?\nZur Anmeldung dieses Formular ausfüllen.\n***\nLos geht’s Mittwoch Abends 18:00 Uhr. Das reguläre Training bei uns Schwertlöwen bietet Raum und Zeit zum Kennenlernen. Danach setzen wir uns zusammen\, bei gutem Wetter draußen am Lagerfeuer.\nDonnerstag früh gehts dann um 8 Uhr los. Mit einer mobilisierenden Bewegungseinheit vorm gemeinsamen Frühstück. Der weitere Tag ist gefüllt mit einem fein aufeinander abgestimmten Programm aus Technischen Einheiten\, Kraft- Ausdauertraining\, weiteren Fechterischen Inputs und Freigefechten. Mittags gibt es warmes Essen und nach dem Abendessen eine Entspannungseinheit. Das Programm geht von 8:00 bis 20:00 Uhr. Danach bietet die Halle verschiedene Möglichkeiten den Abend gemeinsam zu gestalten oder sich zurückzuziehen.\n***\n  \n*** \nStornobedingungen: Bis 4 Wochen vor dem Event volle Erstattung des Beitrags. Danach hängt es von der Auslastung ab. Bitte nehmt in jedem Fall direkt Kontakt mit uns auf\, damit wir reagieren können. \nDu möchtest gerne bei dieser Veranstaltung dabei sein\, kannst es dir aber aktuell leider nicht leisten? Schreib uns eine Mail und wir versuchen gemeinsam\, eine Lösung zu finden! \nEntspannungseinheit 2024
URL:https://pfaelzer-schwertloewen.de/veranstaltungen/schwertloewen-trainingslager
LOCATION:Pfälzer Schwertlöwen – Historische Kampfkünste e.V.\, Lachener Straße 78\, Neustadt Weinstraße\, Rheinland-Pfalz\, 67434\, Deutschland
ATTACH;FMTTYPE=image/jpeg:https://pfaelzer-schwertloewen.de/wp-content/uploads/2023/02/wWiWbvpo-scaled.jpeg
ORGANIZER;CN="Pf%C3%A4lzer%20Schwertl%C3%B6wen%20-%20Historische%20Kampfk%C3%BCnste%20e.V.":MAILTO:info@pfaelzer-schwertloewen.de
END:VEVENT
END:VCALENDAR